BEGIN:VCALENDAR
VERSION:2.0
PRODID:-//Deen Arts Foundation - ECPv6.13.1//NONSGML v1.0//EN
CALSCALE:GREGORIAN
METHOD:PUBLISH
X-ORIGINAL-URL:https://deenartsfoundation.org
X-WR-CALDESC:Events for Deen Arts Foundation
REFRESH-INTERVAL;VALUE=DURATION:PT1H
X-Robots-Tag:noindex
X-PUBLISHED-TTL:PT1H
BEGIN:VTIMEZONE
TZID:UTC
BEGIN:STANDARD
TZOFFSETFROM:+0000
TZOFFSETTO:+0000
TZNAME:UTC
DTSTART:20240101T000000
END:STANDARD
END:VTIMEZONE
BEGIN:VEVENT
DTSTART;VALUE=DATE:20240419
DTEND;VALUE=DATE:20240427
DTSTAMP:20260422T030638
CREATED:20170310T111413Z
LAST-MODIFIED:20240316T224932Z
UID:375-1713484800-1714175999@deenartsfoundation.org
SUMMARY:Uzbekistan Tour & Workshop - 8 days 7 nights
DESCRIPTION:[vc_row][vc_column]Uzbekistan Tour & Workshop - 8 days 7 nightsApril 19th - 26th\, 2024 (Friday to Friday) \n[/vc_column][/vc_row][vc_row][vc_column width=”1/2″][vc_column_text]► 19th April 2024 (Friday) from Istanbul to Urgench (Khiva) – Arrival in Khiva at 07:45 AM\n► 26th April 2024 (Friday) from Samarkand to Istanbul – Departure from Samarkand  \nDiscover the beauty of Uzbekistan\, a captivating destination in Central Asia\, on our exclusive “Uzbekistan Tour & Workshop.” Join us as we explore the historic cities of Samarkand\, Bukhara\, and Khiva\, guided by knowledgeable scholars and experts. \nExperience the allure of these ancient cities\, which have served as significant cultural and intellectual hubs throughout history. Marvel at the intricate art and architectural marvels of Samarkand\, immerse yourself in the Islamic heritage of Bukhara\, and delve into the well-preserved traditions of Khiva. \nDuring this tour\, we will delve into the history and architectural elements of Samarkand and Bukhara\, with Dr. Serap Ekizler Sönmez\, a renowned cultural historian\, as our guide. Dr. Sönmez will provide insights into the unique characteristics and decorative features that set these cities apart from others in the Muslim world. We will also explore the mathematical perspective and its relation to the conception of the universe in Islamic thought\, particularly in the fifteenth-century. \nGeometric patterns and their artistic representations as a mathematical language for understanding the universe will be a focal point of our discussions. Under the expert guidance of Dr. Sönmez\, a master in Islamic geometric patterns\, participants will have the opportunity to create their own portfolio of stunning geometric designs\, using traditional tools like compasses and rulers.[/vc_column_text][/vc_column][vc_column width=”1/2″][vc_single_image image=”1919″ img_size=”750×750″ alignment=”right”][/vc_column][/vc_row][vc_row][vc_column][vc_empty_space alter_height=”small” hide_on_mobile=””][/vc_column][/vc_row][vc_row][vc_column width=”1/2″][vc_column_text] \nGENERAL INFORMATION\nDuration: 8 days\, 7 nights\nDate: April 19th- 26th\, 2024\nTour Led: Dr. Serap Ekizler Sonmez\nEarly Bird Pricing: $1.599 (Ends on Jan 15)\nRegular Pricing: $1.799\n* $ 100 will be added for Single Room\n* $ 50 will be added for materials; please see details as below\nVisiting Cities: Khiva\, Bukhara\, Samarkand\nAge Restrictions: 16-65[/vc_column_text][vc_empty_space hide_on_mobile=””][/vc_column][vc_column width=”1/2″][vc_single_image image=”1873″ img_size=”full” add_caption=”yes” alignment=”right”][/vc_column][/vc_row][vc_row][vc_column][vc_empty_space alter_height=”small” hide_on_mobile=””][/vc_column][/vc_row][vc_row][vc_column width=”1/2″][vc_message message_box_style=”3d” message_box_color=”success” icon_fontawesome=”fas fa-check-circle” closeable=””]WHAT IS INCLUDED?[/vc_message][vc_column_text]► All transportation and transfers specified in the program by air-conditioned private vehicles\n► Accommodation and breakfast in double rooms***\n► Urgench – Buhara internal flight ticket\n► Buhara-Semerkant economy class “AFROSIYOB” high-speed train ticket\n► English-speaking local guide service throughout the tour program\n► All dinners\n► City tours specified in the program\, including all entrance fees[/vc_column_text][/vc_column][vc_column width=”1/2″][vc_message message_box_style=”3d” message_box_color=”warning” icon_fontawesome=”fas fa-exclamation-triangle” closeable=””]WHAT IS NOT INCLUDED?[/vc_message][vc_column_text]► International flight ticket\n► Personal expenses\n► Meals out of the program are not included in the tour price\n► All lunches\n► Photo and video shooting fees[/vc_column_text][/vc_column][/vc_row][vc_row][vc_column][vc_empty_space alter_height=”small” hide_on_mobile=””][/vc_column][/vc_row][vc_row][vc_column width=”1/2″][vc_column_text] \nREFUNDS\n• 75%\, if canceled by March 1st\, 2024\n• 50%\, if canceled by March 15th\, 2024\n• 25%\, if canceled by March 31st\, 2024 \nFor information and reservations\, please get in touch with tours@deenartsfoundation.org \n[/vc_column_text][vc_empty_space alter_height=”small” hide_on_mobile=””][vc_column_text] \nMATERIAL LIST\nWe can source materials for the participants who want to order at our registration page; while registration they can choose from list and add to the shopping cart. Selling Price of the list below is $50. \nThe materials we want you to bring with you for our Geometric Pattern Analysis studies in Uzbekistan Architecture; \n• Compasses\n• Ruler (30cm)\n• Pen (0.3 mm and/or 0.5 mm)\n• Pencil (H and 4B)\n• Masking tape\n• Soft eraser\n• Dry crayons and/or felt-tip pens\n• Training documents\, A3 watercolor papers and tissue papers are supplied by Deen Arts Foundation and will be given to all participants in Uzbekistan.[/vc_column_text][/vc_column][vc_column width=”1/2″][vc_single_image image=”1879″ img_size=”full” add_caption=”yes”][vc_empty_space alter_height=”small” hide_on_mobile=””][vc_single_image image=”1921″ img_size=”full” add_caption=”yes”][/vc_column][/vc_row][vc_row][vc_column][vc_empty_space alter_height=”small” hide_on_mobile=””][/vc_column][/vc_row][vc_row][vc_column width=”2/3″][vc_column_text] \nABOUT OUR INSTRUCTOR\nDr. Serap Ekizler Sönmez \nOur instructor\, Dr. Serap Ekizler Sönmez\, is widely recognized for her expertise in Islamic geometric patterns. With extensive experience visiting notable Islamic heritage sites worldwide\, Dr. Sönmez brings a wealth of knowledge and firsthand experience to our workshop. \nShe completed her Ph.D. on the history of science\, Islamic art\, architecture\, and geometric patterns\, making her a trusted authority in the field. Dr. Sönmez has taught courses at prestigious institutions like the Prince’s School of Traditional Arts (London) and has authored numerous academic papers and books on the subject. She currently serves as the Program Director for Islamic Geometric Patterns at the Deen Arts Foundation and works at FSMV University-KURAM (Foundation Cultural Heritage Conservation Application and Research Center). \nDon’t miss this incredible opportunity to explore the wonders of Uzbekistan and learn from a leading expert in Islamic geometric patterns. Join us on this fascinating tour and workshop\, where you’ll not only gain knowledge but also create lasting memories.[/vc_column_text][/vc_column][vc_column width=”1/3″]\n    \n        \n										\n					        Islamic Geometric Patterns\n        \n	\n		\n			Serap Ekizler Sonmez\n		\n	\n\n[/vc_column][/vc_row][vc_row][vc_column][vc_empty_space alter_height=”small” hide_on_mobile=””][/vc_column][/vc_row][vc_row][vc_column width=”1/4″][/vc_column][vc_column width=”1/4″][/vc_column][vc_column width=”1/4″][/vc_column][vc_column width=”1/4″][/vc_column][/vc_row][vc_row][vc_column]ITINERARY[vc_column_text] \n\n\n\n\n\n► Day 1: 19th April 2024 – Arrival in Khiva at 07:45 AM\n\n\n• Arrive in Khiva and transfer to your hotel\n\n\n• Explore the ancient city of Khiva\, a UNESCO World Heritage Site\n\n\n• Visit popular attractions such as the Ichon-Qala fortress\, Juma Mosque\, and the Tash-Khauli Palace\n\n\n• Immerse yourself in the charming streets and traditional architecture of Khiva\n\n\n• Overnight stay in Khiva\n\n\n► Day 2: 20th April 2024 – Explore Khiva\n\n\n• Workshop with Dr. Serap Ekizler Sönmez\n\n\n• Take in the vibrant atmosphere of Khiva’s lively streets\n\n\n• Free time on your own.\n\n\n► Day 3: 21th April 2024 – Discover Bukhara\n\n\n• Transfer to Urgench airport\, and you will have a morning flight to Bukhara.\n\n\n• Sightseeing tour in the fascinating city of Bukhara\n\n\n• Explore the historic center of Bukhara\, another UNESCO World Heritage Site\n\n\n• Visit famous landmarks such as the Ark Citadel\, Po-i-Kalyan complex\, Mir-i Arab Madrasah\, Kalon Mosque and Kalon Minaret\n\n\n• Explore the bustling bazaars\, Suzani House and enjoy traditional Uzbek cuisine\n\n\n• Overnight stay in Bukhara\n\n\n► Day 4: 22nd April 2024 – Discover Bukhara\n\n\n• Workshop with Dr. Serap Ekizler Sönmez\n\n\n• Continue exploring the cultural and architectural wonders of Bukhara\n\n\n• Visit the Chor Minor Mosque\, Magok-i-Attari Mosque\, Kukaldosh Madrasah and the Bolo Hauz Complex\n\n\n• Explore the Lyab-i-Hauz area and enjoy traditional tea at a local teahouse\n\n\n• Experience the vibrant local culture and traditions of Bukhara\n\n\n• Overnight stay in Bukhara\n\n\n► Day 5: 23rd April 2024 – Travel to Samarkand by fast train\n\n\n• Free Time until our travel to Samarkand\n\n\n• Take a fast train from Bukhara to Samarkand\n\n\n• Arrive in Samarkand and transfer to your hotel\n\n\n• Arrive in Samarkand and transfer to your hotel\n\n\n• Overnight stay in Samarkand\n\n\n► Day 6: 24th April 2024 – Explore Samarkand\n\n\n• Workshop with Dr. Serap Ekizler Sönmez\n\n\n• Begin exploring the grandeur of Samarkand\, a historic Silk Road city\n\n\n• Visit the iconic Registan Square (Tilla Kari Madrasah\, Shirdor Madrasah\, Ulugbek Madrasah)\, Shah-i-Zinda complex\,\nand the Bibi-Khanym Mosque and Tomb\n\n\n• Explore the bustling Siab Bazaar and indulge in local delicacies\n\n\n• Visit the Ulugbek Observatory (Historic Islamic observatory and Museum)\, Gur-e-Amir Mausoleum\n\n\n• Explore the stunning architecture and intricate tilework of Samarkand\n\n\n• Take a stroll through the beautiful gardens of the Afrosiab Museum\n\n\n• Overnight stay in Samarkand\n\n\n► Day 7: 25th April 2024 – Explore Samarkand\n\n\n• Workshop with Dr. Serap Ekizler Sönmez\n\n\n• Enjoy a leisurely morning in Samarkand\, explore the city and have free time\n\n\n• Continue discovering the UNESCO-listed wonders of Samarkand\, Ismail Samani Mausoleum\n\n\n• End of the tour\n\n\n• Certificate Ceremony and Dinner\n\n\n► Day 8: 26th April 2024 – Departure from Samarkand\n\n\n• Transfer to the airport or train station for your departure\n\n\n\n[/vc_column_text][vc_column_text]Please note that this itinerary is also subject to change depending on the availability of flights and train schedules.[/vc_column_text][/vc_column][/vc_row][vc_row][vc_column][vc_empty_space alter_height=”small” hide_on_mobile=””]Frequently Asked Questions[vc_toggle title=”What are the commonly used electricity plugs and power outlets in Uzbekistan?” style=”round” color=”turquoise” size=”sm” open=”true”]Type C and Type F plugs are commonly used in Uzbekistan.[/vc_toggle][vc_toggle title=”What is the standard voltage and frequency for electricity in Uzbekistan?” style=”round” color=”turquoise” size=”sm” open=”true”]The standard voltage is 220V\, and the frequency is 50Hz.[/vc_toggle][vc_toggle title=”Do I need a visa to visit Uzbekistan?” style=”round” color=”turquoise” size=”sm” open=”true”]Yes\, most visitors to Uzbekistan will require a visa. It is recommended to check the specific visa requirements for your nationality and plan accordingly.[/vc_toggle][vc_toggle title=”What should I do if my country uses different plug types?” style=”round” color=”turquoise” size=”sm” open=”true”]You will need a travel adapter to plug in your devices. Adapters for Type C or Type F plugs can be easily found in local electronics stores or can be purchased online before your trip.[/vc_toggle][vc_toggle title=”What is the official currency in Uzbekistan?” style=”round” color=”turquoise” size=”sm” open=”true”]The official currency in Uzbekistan is the Uzbekistani som (UZS).[/vc_toggle][vc_toggle title=”Where can I exchange currency in Uzbekistan?” style=”round” color=”turquoise” size=”sm” open=”true”]Currency exchange facilities are available at airports\, banks\, and some hotels.[/vc_toggle][vc_toggle title=”What languages are spoken in Uzbekistan?” style=”round” color=”turquoise” size=”sm” open=”true”]The official language is Uzbek\, but Russian is widely spoken and understood in many areas.[/vc_toggle][vc_toggle title=”What are popular means of transportation in Uzbekistan?” style=”round” color=”turquoise” size=”sm” open=”true”]Taxis and shared taxis (marshrutkas) are popular means of transportation in cities and towns.[/vc_toggle][vc_toggle title=”How can I ensure my safety while in Uzbekistan?” style=”round” color=”turquoise” size=”sm” open=”true”]Take precautions\, be aware of your surroundings\, keep valuables secure\, avoid walking alone in unfamiliar areas at night\, and be cautious with your personal belongings in crowded places.[/vc_toggle][vc_toggle title=”Is the tap water safe to drink in Uzbekistan?” style=”round” color=”turquoise” size=”sm” open=”true”]Tap water in Uzbekistan may not be safe for drinking. It is best to stick to bottled water or boil tap water before consuming it.[/vc_toggle][vc_toggle title=”Are there any specific customs and etiquette I should be aware of in Uzbekistan?” style=”round” color=”turquoise” size=”sm” open=”true”]It is respectful to follow local customs and traditions\, such as dressing modestly when visiting religious sites and avoiding excessive public affection\, especially outside major tourist areas.[/vc_toggle][vc_toggle title=”What health and safety precautions should I take when traveling to Uzbekistan?” style=”round” color=”turquoise” size=”sm” open=”true”]It is recommended to consult your doctor or travel health clinic regarding vaccinations and medications needed for traveling to Uzbekistan. Carry basic first aid supplies\, use insect repellent\, and apply sunscreen as required.[/vc_toggle][vc_toggle title=”Are there any traditional customs or rituals I can experience in Uzbekistan?” style=”round” color=”turquoise” size=”sm” open=”true”]Yes\, you can embrace Uzbek culture by experiencing traditional customs and rituals\, such as taking off your shoes when entering someone’s home and using your right hand for greetings and eating.[/vc_toggle][vc_toggle title=”Are there any traditional customs or rituals I can experience in Uzbekistan?” style=”round” color=”turquoise” size=”sm” open=”true”]Yes\, you can embrace Uzbek culture by experiencing traditional customs and rituals\, such as taking off your shoes when entering someone’s home and using your right hand for greetings and eating.[/vc_toggle][/vc_column][/vc_row]
URL:https://deenartsfoundation.org/program/uzbekistan-tour-workshop-8-days-7-nights/
CATEGORIES:Tours
ATTACH;FMTTYPE=image/jpeg:https://deenartsfoundation.org/wp-content/uploads/2017/03/Uzbekistan-Tour-scaled.jpeg
ORGANIZER;CN="Deen Arts Foundation":MAILTO:intensives@deenartsfoundation.org
END:VEVENT
END:VCALENDAR